BEGIN:VCALENDAR
VERSION:2.0
PRODID:www.msp-info.com
METHOD:PUBLISH
BEGIN:VTIMEZONE
TZID:Europe/Berlin
X-LIC-LOCATION:Europe/Berlin
BEGIN:DAYLIGHT
TZOFFSETFROM:+0100
TZOFFSETTO:+0200
TZNAME:CEST
DTSTART:19700329T020000
RRULE:FREQ=YEARLY;INTERVAL=1;BYDAY=-1SU;BYMONTH=3
END:DAYLIGHT
BEGIN:STANDARD
TZOFFSETFROM:+0200
TZOFFSETTO:+0100
TZNAME:CET
DTSTART:19701025T030000
RRULE:FREQ=YEARLY;INTERVAL=1;BYDAY=-1SU;BYMONTH=10
END:STANDARD
END:VTIMEZONE
BEGIN:VEVENT
TRANSP:TRANSPARENT
ORGANIZER;CN=Gewerbe- und Tourismusverein Karlstadt e. V. und Stadtmarketing Karlstadt GmbH:MAILTO:mail@karlstadt.info
URL:http://www.karlstadt.info
LOCATION:Karlstadt
SUMMARY:Maimarkt
DESCRIPTION;ENCODING=QUOTED-PRINTABLE:Geschäfte geöffnet von 12.30 Uhr bis 17.30 Uhr=0D=0A=0D=0AAktionsbühne auf dem Marktplatz ab 13.00 Uhr=0D=0A=0D=0ABewerbungen für Marktbeschicker können an die unten aufgeführte Adresse geschickt werden.=0D=0A=0D=0AStadt Karlstadt=0D=0AHerrn Daniel Brückner=0D=0AZum Helfenstein 2=0D=0A97753 Karlstadt=0D=0A=0D=0ATel.: 09353 7902-18=0D=0AFax: 09353 7902-7718=0D=0Abrueckner.daniel@karlstadt.de=0D=0Awww.karlstadt.de =0D=0A=0D=0AVeranstaltungsort im Stadtplan anzeigen =0D=0A=0D=0A=0D=0Aweitere Markttermine 2015:=0D=0A18.10.2015 - Oktobermarkt=0D=0A22.11.2015 - Andreasmarkt=0D=0A
CLASS:PUBLIC
DTSTART;TZID=Europe/Berlin:20150517T123000Z
DTEND;TZID=Europe/Berlin:20150517T173000Z
DTSTAMP;TZID=Europe/Berlin:19700306T053000Z
UID:www.msp-info.com-vk-27707-48216
END:VEVENT
END:VCALENDAR